BEGIN:VCALENDAR
VERSION:2.0
CALSCALE:GREGORIAN
PRODID:-//Diputació de Barcelona//DibaCMS//EN
BEGIN:VEVENT
UID:4473
DTSTAMP:20260421T162123
DTSTART:20250218T000000
DTEND:20260217T000000
SUMMARY:Dosrius amplia la seva xarxa de videovigilància amb la instal·lació de dues noves càmeres
LOCATION:
METHOD:PUBLISH
X-WR-CALNAME:dosrius@dosrius.cat
X-WR-TIMEZONE:Europe/Madrid
DESCRIPTION:
El cost de la instal·lació serà de gairebé de 17.000 euros i l’empresa encarregada serà VIBA SEGURIDAD INTELIGENTE SLU.

URI:https://www.dosrius.cat/actualitat/noticies/dosrius-amplia-la-seva-xarxa-de-videovigilancia-amb-la-installacio-de-dues-noves-cameres.html
CLASS:PUBLIC
END:VEVENT
END:VCALENDAR
