BEGIN:VCALENDAR
VERSION:2.0
CALSCALE:GREGORIAN
PRODID:-//Diputació de Barcelona//DibaCMS//EN
BEGIN:VEVENT
UID:4471
DTSTAMP:20260421T161307
DTSTART:20250217T000000
DTEND:20310201T000000
SUMMARY:Els nous vestuaris del Camp Municipal Can Batlle, més a prop
LOCATION:
METHOD:PUBLISH
X-WR-CALNAME:dosrius@dosrius.cat
X-WR-TIMEZONE:Europe/Madrid
DESCRIPTION:
La Junta de Govern Local acaba d’adjudicar el contracte a l’empresa Construcciones metálicas Mepal SL per 178.353 €.

URI:https://www.dosrius.cat/actualitat/noticies/els-nous-vestuaris-del-camp-municipal-can-batlle-mes-a-prop.html
CLASS:PUBLIC
END:VEVENT
END:VCALENDAR
