BEGIN:VCALENDAR
VERSION:2.0
CALSCALE:GREGORIAN
PRODID:-//Diputació de Barcelona//DibaCMS//EN
BEGIN:VEVENT
UID:4469
DTSTAMP:20260421T145835
DTSTART:20250214T000000
DTEND:20310201T000000
SUMMARY:L’Ajuntament de Dosrius deixa de tenir presència activa a la xarxa X
LOCATION:
METHOD:PUBLISH
X-WR-CALNAME:dosrius@dosrius.cat
X-WR-TIMEZONE:Europe/Madrid
DESCRIPTION:El consistori informa que, a partir de dilluns 17 de febrer, s’aturarà l’activitat de la xarxa X en el marc del compromís de la institució amb una comunicació responsable i transparent.  

URI:https://www.dosrius.cat/actualitat/noticies/lajuntament-de-dosrius-deixa-de-tenir-presencia-activa-a-la-xarxa-x.html
CLASS:PUBLIC
END:VEVENT
END:VCALENDAR
