BEGIN:VCALENDAR
VERSION:2.0
CALSCALE:GREGORIAN
PRODID:-//Diputació de Barcelona//DibaCMS//EN
BEGIN:VEVENT
UID:4468
DTSTAMP:20260421T162158
DTSTART:20250213T100000
DTEND:20310201T000000
SUMMARY:Desmentint els rumors i dubtes sobre la nova recollida Porta a Porta
LOCATION:
METHOD:PUBLISH
X-WR-CALNAME:dosrius@dosrius.cat
X-WR-TIMEZONE:Europe/Madrid
DESCRIPTION:
L’Ajuntament de Dosrius aclareix els dubtes sorgits arran de la implantació del nou sistema de recollida selectiva

URI:https://www.dosrius.cat/actualitat/noticies/desmentint-els-rumors-i-dubtes-sobre-la-nova-recollida-porta-a-porta.html
CLASS:PUBLIC
END:VEVENT
END:VCALENDAR
