BEGIN:VCALENDAR
VERSION:2.0
CALSCALE:GREGORIAN
PRODID:-//Diputació de Barcelona//DibaCMS//EN
BEGIN:VEVENT
UID:4463
DTSTAMP:20260421T151929
DTSTART:20250212T000000
DTEND:20310201T000000
SUMMARY:Renovació del ferm del Camí de Can Rimbles per millorar la seguretat i l’accessibilitat
LOCATION:
METHOD:PUBLISH
X-WR-CALNAME:dosrius@dosrius.cat
X-WR-TIMEZONE:Europe/Madrid
DESCRIPTION:
Les obres permetran a l’Ajuntament de Dosrius garantir-ne la seguretat i la conservació.

URI:https://www.dosrius.cat/actualitat/noticies/renovacio-del-ferm-del-cami-de-can-rimbles-per-millorar-la-seguretat-i-laccessibilitat.html
CLASS:PUBLIC
END:VEVENT
END:VCALENDAR
