BEGIN:VCALENDAR
VERSION:2.0
CALSCALE:GREGORIAN
PRODID:-//Diputació de Barcelona//DibaCMS//EN
BEGIN:VEVENT
UID:4462
DTSTAMP:20260421T145852
DTSTART:20250211T000000
DTEND:20300201T000000
SUMMARY:Nou horari del consultori mèdic de Can Massuet
LOCATION:
METHOD:PUBLISH
X-WR-CALNAME:dosrius@dosrius.cat
X-WR-TIMEZONE:Europe/Madrid
DESCRIPTION:
A partir d’ara, el centre també obrirà els dimarts al matí per millorar l’atenció als veïns i veïnes.

URI:https://www.dosrius.cat/actualitat/noticies/nou-horari-del-consultori-medic-de-can-massuet.html
CLASS:PUBLIC
END:VEVENT
END:VCALENDAR
