BEGIN:VCALENDAR
VERSION:2.0
CALSCALE:GREGORIAN
PRODID:-//Diputació de Barcelona//DibaCMS//EN
BEGIN:VEVENT
UID:4453
DTSTAMP:20260421T145158
DTSTART:20250210T000000
DTEND:20310201T000000
SUMMARY:L'Ajuntament de Dosrius incorpora nous documents històrics al seu arxiu
LOCATION:
METHOD:PUBLISH
X-WR-CALNAME:dosrius@dosrius.cat
X-WR-TIMEZONE:Europe/Madrid
DESCRIPTION:
Un testimoni del passat: bitllets locals, un calendari comercial i un programa de Festa Major s'incorporen a la col·lecció municipal

URI:https://www.dosrius.cat/actualitat/noticies/lajuntament-de-dosrius-incorpora-nous-documents-historics-al-seu-arxiu.html
CLASS:PUBLIC
END:VEVENT
END:VCALENDAR
