BEGIN:VCALENDAR
VERSION:2.0
CALSCALE:GREGORIAN
PRODID:-//Diputació de Barcelona//DibaCMS//EN
BEGIN:VEVENT
UID:4451
DTSTAMP:20260421T150853
DTSTART:20250207T000000
DTEND:20310201T000000
SUMMARY:L'Ajuntament de Dosrius prorroga el contracte de gestió de l’Escola Bressol fins a nova adjudicació
LOCATION:
METHOD:PUBLISH
X-WR-CALNAME:dosrius@dosrius.cat
X-WR-TIMEZONE:Europe/Madrid
DESCRIPTION:
El servei es mantindrà fins al 31 d’agost de 2025, amb l'obertura d'una nova aula i la millora del servei de cuina

URI:https://www.dosrius.cat/actualitat/noticies/lajuntament-de-dosrius-prorroga-el-contracte-de-gestio-de-lescola-bressol-fins-a-nova-adjudicacio.html
CLASS:PUBLIC
END:VEVENT
END:VCALENDAR
