BEGIN:VCALENDAR
VERSION:2.0
CALSCALE:GREGORIAN
PRODID:-//Diputació de Barcelona//DibaCMS//EN
BEGIN:VEVENT
UID:4449
DTSTAMP:20260422T153856
DTSTART:20250203T100000
DTEND:20300201T000000
SUMMARY:Dosrius estrena nou canal de Whatsapp pels veïns i veïnes
LOCATION:
METHOD:PUBLISH
X-WR-CALNAME:dosrius@dosrius.cat
X-WR-TIMEZONE:Europe/Madrid
DESCRIPTION:
L'Ajuntament posa en marxa un nou canal de difusió per apropar la informació municipal a la ciutadania

URI:https://www.dosrius.cat/actualitat/noticies/dosrius-estrena-nou-canal-de-whatsapp-pels-veins-i-veines.html
CLASS:PUBLIC
END:VEVENT
END:VCALENDAR
