BEGIN:VCALENDAR
VERSION:2.0
CALSCALE:GREGORIAN
PRODID:-//Diputació de Barcelona//DibaCMS//EN
BEGIN:VEVENT
UID:4429
DTSTAMP:20260422T193804
DTSTART:20250113T000000
DTEND:20290104T000000
SUMMARY:El Museu de les Aigües  proposa un viatge al passat de les Aigües de Dosrius i la història de Barcelona
LOCATION:
METHOD:PUBLISH
X-WR-CALNAME:dosrius@dosrius.cat
X-WR-TIMEZONE:Europe/Madrid
DESCRIPTION:
El Museu de les Aigües convida els visitants a una experiència immersiva sobre la importància de l’aigua en la història de Dosrius i Barcelona

URI:https://www.dosrius.cat/actualitat/noticies/el-museu-de-les-aigues-proposa-un-viatge-al-passat-de-les-aigues-de-dosrius-i-la-historia-de-barcelona.html
CLASS:PUBLIC
END:VEVENT
END:VCALENDAR
