BEGIN:VCALENDAR
VERSION:2.0
CALSCALE:GREGORIAN
PRODID:-//Diputació de Barcelona//DibaCMS//EN
BEGIN:VEVENT
UID:4428
DTSTAMP:20260420T134937
DTSTART:20250113T000000
DTEND:20300103T000000
SUMMARY:Descobreix com s’ha viscut el procés participatiu per definir els nous usos de la Tortuga
LOCATION:
METHOD:PUBLISH
X-WR-CALNAME:dosrius@dosrius.cat
X-WR-TIMEZONE:Europe/Madrid
DESCRIPTION:
Pla Estel, a través d’un encàrrec de la Diputació de Barcelona i l’Ajuntament de Dosrius, s’ha ocupat de dinamitzar el procés, del qual ara se’n pot visualitzar un vídeo

URI:https://www.dosrius.cat/actualitat/noticies/descobreix-com-sha-viscut-el-proces-participatiu-per-definir-els-nous-usos-de-la-tortuga.html
CLASS:PUBLIC
END:VEVENT
END:VCALENDAR
