BEGIN:VCALENDAR
VERSION:2.0
CALSCALE:GREGORIAN
PRODID:-//Diputació de Barcelona//DibaCMS//EN
BEGIN:VEVENT
UID:4420
DTSTAMP:20260422T122645
DTSTART:20241227T000000
DTEND:20291201T000000
SUMMARY:Dosrius impulsa una donació extraordinària de Nadal per a famílies vulnerables
LOCATION:
METHOD:PUBLISH
X-WR-CALNAME:dosrius@dosrius.cat
X-WR-TIMEZONE:Europe/Madrid
DESCRIPTION:
Serveis socials destina 12.665,6 € per proporcionar aliments i productes bàsics a 63 famílie sdel municipi

URI:https://www.dosrius.cat/actualitat/noticies/dosrius-impulsa-una-donacio-extraordinaria-de-nadal-per-a-families-vulnerables.html
CLASS:PUBLIC
END:VEVENT
END:VCALENDAR
