BEGIN:VCALENDAR
VERSION:2.0
CALSCALE:GREGORIAN
PRODID:-//Diputació de Barcelona//DibaCMS//EN
BEGIN:VEVENT
UID:4417
DTSTAMP:20260422T135922
DTSTART:20241220T000000
DTEND:20291201T000000
SUMMARY:Servei especial de recollida de residus durant les festes nadalenques a Dosrius
LOCATION:
METHOD:PUBLISH
X-WR-CALNAME:dosrius@dosrius.cat
X-WR-TIMEZONE:Europe/Madrid
DESCRIPTION:
El 24 i 31 de desembre no es realitzarà la recollida habitual porta a porta, i aquesta es farà l’endemà els dies 23 i 30, recollint com és habitual l’orgànica i també, de forma extraordinària, els envasos.

URI:https://www.dosrius.cat/actualitat/noticies/servei-especial-de-recollida-de-residus-durant-les-festes-nadalenques-a-dosrius.html
CLASS:PUBLIC
END:VEVENT
END:VCALENDAR
