BEGIN:VCALENDAR
VERSION:2.0
CALSCALE:GREGORIAN
PRODID:-//Diputació de Barcelona//DibaCMS//EN
BEGIN:VEVENT
UID:4416
DTSTAMP:20260422T151122
DTSTART:20241218T000000
DTEND:20291201T000000
SUMMARY:Dosrius reforça la prevenció d’incendis amb treballs de manteniment i millora en diversos camins municipals
LOCATION:
METHOD:PUBLISH
X-WR-CALNAME:dosrius@dosrius.cat
X-WR-TIMEZONE:Europe/Madrid
DESCRIPTION: 

Les actuacions s’emmarquen dins del pla municipal de prevenció d’incendis forestals i inclouen la conservació de franges auxiliars i la compactació de camins estratègics.

URI:https://www.dosrius.cat/actualitat/noticies/dosrius-reforca-la-prevencio-dincendis-amb-treballs-de-manteniment-i-millora-en-diversos-camins-municipals.html
CLASS:PUBLIC
END:VEVENT
END:VCALENDAR
