BEGIN:VCALENDAR
VERSION:2.0
CALSCALE:GREGORIAN
PRODID:-//Diputació de Barcelona//DibaCMS//EN
BEGIN:VEVENT
UID:4411
DTSTAMP:20260422T223023
DTSTART:20250105T180000
DTEND:20250105T210000
SUMMARY:Cavalcada dels Reis Mags
LOCATION:
METHOD:PUBLISH
X-WR-CALNAME:dosrius@dosrius.cat
X-WR-TIMEZONE:Europe/Madrid
DESCRIPTION:
URI:https://www.dosrius.cat/actualitat/agenda/cavalcada-dels-reis-mags.html
CLASS:PUBLIC
END:VEVENT
END:VCALENDAR
