BEGIN:VCALENDAR
VERSION:2.0
CALSCALE:GREGORIAN
PRODID:-//Diputació de Barcelona//DibaCMS//EN
BEGIN:VEVENT
UID:4406
DTSTAMP:20260422T102904
DTSTART:20241203T000000
DTEND:20301201T000000
SUMMARY:Arriba la cinquena edició de la Fira Municipal de Santa Llúcia de Dosrius
LOCATION:
METHOD:PUBLISH
X-WR-CALNAME:dosrius@dosrius.cat
X-WR-TIMEZONE:Europe/Madrid
DESCRIPTION:
Tindrà lloc el dissabte 14 de desembre de 16 a 21 h a la plaça del Comú i a la plaça de la República de Dosrius.

URI:https://www.dosrius.cat/actualitat/noticies/arriba-la-cinquena-edicio-de-la-fira-municipal-de-santa-llucia-de-dosrius.html
CLASS:PUBLIC
END:VEVENT
END:VCALENDAR
