BEGIN:VCALENDAR
VERSION:2.0
CALSCALE:GREGORIAN
PRODID:-//Diputació de Barcelona//DibaCMS//EN
BEGIN:VEVENT
UID:4405
DTSTAMP:20260422T120141
DTSTART:20241128T000000
DTEND:20291103T000000
SUMMARY:Dosrius incorpora un vehicle elèctric per a la recollida de bioresidus gràcies als fons europeus
LOCATION:
METHOD:PUBLISH
X-WR-CALNAME:dosrius@dosrius.cat
X-WR-TIMEZONE:Europe/Madrid
DESCRIPTION:
El nou vehicle promourà una recollida selectiva més eficient i sostenible, en línia amb el compromís del municipi amb el medi ambient.

URI:https://www.dosrius.cat/actualitat/noticies/dosrius-incorpora-un-vehicle-electric-per-a-la-recollida-de-bioresidus-gracies-als-fons-europeus.html
CLASS:PUBLIC
END:VEVENT
END:VCALENDAR
