BEGIN:VCALENDAR
VERSION:2.0
CALSCALE:GREGORIAN
PRODID:-//Diputació de Barcelona//DibaCMS//EN
BEGIN:VEVENT
UID:4404
DTSTAMP:20260422T181249
DTSTART:20241128T000000
DTEND:20301101T000000
SUMMARY:Dosrius intensifica el control de la vespa asiàtica per protegir l&#39;entorn i els veïns
LOCATION:
METHOD:PUBLISH
X-WR-CALNAME:dosrius@dosrius.cat
X-WR-TIMEZONE:Europe/Madrid
DESCRIPTION:
L'Ajuntament implementa mesures preventives i un control integrat per reduir la presència d'aquesta espècie invasora des del 2018.

URI:https://www.dosrius.cat/actualitat/noticies/dosrius-intensifica-el-control-de-la-vespa-asiatica-per-protegir-land39entorn-i-els-veins.html
CLASS:PUBLIC
END:VEVENT
END:VCALENDAR
