BEGIN:VCALENDAR
VERSION:2.0
CALSCALE:GREGORIAN
PRODID:-//Diputació de Barcelona//DibaCMS//EN
BEGIN:VEVENT
UID:4401
DTSTAMP:20260422T164208
DTSTART:20241126T000000
DTEND:20291101T000000
SUMMARY:El VIII Concurs Fotogràfic de Dosrius, Canyamars i Can Massuet del Far 2024 ja té guanyadors!
LOCATION:
METHOD:PUBLISH
X-WR-CALNAME:dosrius@dosrius.cat
X-WR-TIMEZONE:Europe/Madrid
DESCRIPTION:
El jurat ha guardonat a Carme Alvarado amb el primer premi d’aquest certamen organitzat per l’Ajuntament. La imatge guanyadora, juntament amb les 12 fotografies premiades, formaran part del calendari de l’any 2025 que publicarà el consistori.

URI:https://www.dosrius.cat/actualitat/noticies/el-viii-concurs-fotografic-de-dosrius-canyamars-i-can-massuet-del-far-2024-ja-te-guanyadors.html
CLASS:PUBLIC
END:VEVENT
END:VCALENDAR
