BEGIN:VCALENDAR
VERSION:2.0
CALSCALE:GREGORIAN
PRODID:-//Diputació de Barcelona//DibaCMS//EN
BEGIN:VEVENT
UID:4394
DTSTAMP:20260422T103036
DTSTART:20241118T000000
DTEND:20311101T000000
SUMMARY:Dosrius organitza un taller de cuina nadalenca amb canelons com a protagonistes
LOCATION:
METHOD:PUBLISH
X-WR-CALNAME:dosrius@dosrius.cat
X-WR-TIMEZONE:Europe/Madrid
DESCRIPTION:
El Casal Les Cotxeres de Canyamars acollirà el 29 de novembre una sessió on els participants aprendran a preparar aquest clàssic plat, amb tastet inclòs al final de l'activitat.

URI:https://www.dosrius.cat/actualitat/noticies/dosrius-organitza-un-taller-de-cuina-nadalenca-amb-canelons-com-a-protagonistes.html
CLASS:PUBLIC
END:VEVENT
END:VCALENDAR
