BEGIN:VCALENDAR
VERSION:2.0
CALSCALE:GREGORIAN
PRODID:-//Diputació de Barcelona//DibaCMS//EN
BEGIN:VEVENT
UID:4392
DTSTAMP:20260421T213220
DTSTART:20240701T000000
DTEND:20250426T000000
SUMMARY:Resum del Ple municipal ordinari del 27 de juny
LOCATION:
METHOD:PUBLISH
X-WR-CALNAME:dosrius@dosrius.cat
X-WR-TIMEZONE:Europe/Madrid
DESCRIPTION: 

La sessió la podeu recuperar de forma íntegra en aquest enllaç.

URI:https://www.dosrius.cat/actualitat/noticies/resum-del-ple-municipal-ordinari-del-27-de-juny.html
CLASS:PUBLIC
END:VEVENT
END:VCALENDAR
