BEGIN:VCALENDAR
VERSION:2.0
CALSCALE:GREGORIAN
PRODID:-//Diputació de Barcelona//DibaCMS//EN
BEGIN:VEVENT
UID:4388
DTSTAMP:20260422T222816
DTSTART:20241107T000000
DTEND:20291101T000000
SUMMARY:L’antiga fàbrica "La Tortuga" acollirà el nou arxiu municipal
LOCATION:
METHOD:PUBLISH
X-WR-CALNAME:dosrius@dosrius.cat
X-WR-TIMEZONE:Europe/Madrid
DESCRIPTION:
L’Ajuntament de Dosrius destinarà 449.338 € a l’adequació parcial de l’edifici per a la conservació documental i espais d'oficina.

URI:https://www.dosrius.cat/actualitat/noticies/lantiga-fabrica-la-tortuga-acollira-el-nou-arxiu-municipal.html
CLASS:PUBLIC
END:VEVENT
END:VCALENDAR
