BEGIN:VCALENDAR
VERSION:2.0
CALSCALE:GREGORIAN
PRODID:-//Diputació de Barcelona//DibaCMS//EN
BEGIN:VEVENT
UID:4387
DTSTAMP:20260422T151509
DTSTART:20241107T000000
DTEND:20301101T000000
SUMMARY:El Camp Municipal Can Batlle de Dosrius tindrà nous vestuaris
LOCATION:
METHOD:PUBLISH
X-WR-CALNAME:dosrius@dosrius.cat
X-WR-TIMEZONE:Europe/Madrid
DESCRIPTION:
El projecte, amb un pressupost de 256.302,90 €, preveu la creació d’un edifici d’una planta baixa amb quatre vestuaris.

URI:https://www.dosrius.cat/actualitat/noticies/el-camp-municipal-can-batlle-de-dosrius-tindra-nous-vestuaris.html
CLASS:PUBLIC
END:VEVENT
END:VCALENDAR
