BEGIN:VCALENDAR
VERSION:2.0
CALSCALE:GREGORIAN
PRODID:-//Diputació de Barcelona//DibaCMS//EN
BEGIN:VEVENT
UID:4385
DTSTAMP:20260420T142051
DTSTART:20241106T150000
DTEND:20301101T000000
SUMMARY:15, 16 i 17 de novembre: torna la Festa Major d’Hivern de Dosrius
LOCATION:
METHOD:PUBLISH
X-WR-CALNAME:dosrius@dosrius.cat
X-WR-TIMEZONE:Europe/Madrid
DESCRIPTION:
Durant el cap de setmana els veïns i veïnes podran gaudir de diferents propostes per a tots els públics en el marc de la Festa Major de Sant Iscle i Santa Victòria.

URI:https://www.dosrius.cat/actualitat/noticies/15-16-i-17-de-novembre-torna-la-festa-major-dhivern-de-dosrius.html
CLASS:PUBLIC
END:VEVENT
END:VCALENDAR
