BEGIN:VCALENDAR
VERSION:2.0
CALSCALE:GREGORIAN
PRODID:-//Diputació de Barcelona//DibaCMS//EN
BEGIN:VEVENT
UID:4378
DTSTAMP:20260422T135744
DTSTART:20241101T000000
DTEND:20301101T000000
SUMMARY:Dosrius impulsa la solidaritat amb aportacions econòmiques a Creu Roja per ajudar els afectats per la DANA
LOCATION:
METHOD:PUBLISH
X-WR-CALNAME:dosrius@dosrius.cat
X-WR-TIMEZONE:Europe/Madrid
DESCRIPTION:
L'Ajuntament fa una crida a la ciutadania per contribuir econòmicament, facilitant una resposta ràpida i eficient davant les necessitats canviants del territori afectat.

URI:https://www.dosrius.cat/actualitat/noticies/dosrius-impulsa-la-solidaritat-amb-aportacions-economiques-a-creu-roja-per-ajudar-els-afectats-per-la-dana.html
CLASS:PUBLIC
END:VEVENT
END:VCALENDAR
