BEGIN:VCALENDAR
VERSION:2.0
CALSCALE:GREGORIAN
PRODID:-//Diputació de Barcelona//DibaCMS//EN
BEGIN:VEVENT
UID:4376
DTSTAMP:20260422T104240
DTSTART:20241031T000000
DTEND:20301004T000000
SUMMARY:La Generalitat autoritza una nova parada provisional d'autobús davant l'institut Els Roures de Dosrius
LOCATION:
METHOD:PUBLISH
X-WR-CALNAME:dosrius@dosrius.cat
X-WR-TIMEZONE:Europe/Madrid
DESCRIPTION:A partir del dilluns 4, l’autobús de les 14:55 farà parada davant de l’institut per garantir la seguretat dels alumnes.

URI:https://www.dosrius.cat/actualitat/noticies/la-generalitat-autoritza-una-nova-parada-provisional-dautobus-davant-linstitut-els-roures-de-dosrius.html
CLASS:PUBLIC
END:VEVENT
END:VCALENDAR
