BEGIN:VCALENDAR
VERSION:2.0
CALSCALE:GREGORIAN
PRODID:-//Diputació de Barcelona//DibaCMS//EN
BEGIN:VEVENT
UID:4372
DTSTAMP:20260422T152020
DTSTART:20241023T000000
DTEND:20301011T000000
SUMMARY:Serveis Socials més a prop: Nou projecte per apropar l'atenció social a tots els veïns i veïnes de Dosrius
LOCATION:
METHOD:PUBLISH
X-WR-CALNAME:dosrius@dosrius.cat
X-WR-TIMEZONE:Europe/Madrid
DESCRIPTION:
El municipi de Dosrius llança un programa adreçat a totes les persones que necessitin atenció social, amb l'objectiu de reduir l'aïllament i prevenir situacions de risc.

URI:https://www.dosrius.cat/actualitat/noticies/serveis-socials-mes-a-prop-nou-projecte-per-apropar-latencio-social-a-tots-els-veins-i-veines-de-dosrius.html
CLASS:PUBLIC
END:VEVENT
END:VCALENDAR
