BEGIN:VCALENDAR
VERSION:2.0
CALSCALE:GREGORIAN
PRODID:-//Diputació de Barcelona//DibaCMS//EN
BEGIN:VEVENT
UID:4368
DTSTAMP:20260421T190309
DTSTART:20241016T000000
DTEND:20301004T000000
SUMMARY:Torna la Fira del Bosc-Canyamars Medieval
LOCATION:
METHOD:PUBLISH
X-WR-CALNAME:dosrius@dosrius.cat
X-WR-TIMEZONE:Europe/Madrid
DESCRIPTION:El 19 i 20 d’octubre se celebraran més d’una quarantena de propostes; entre elles, tallers, accions teatralitzades, recreacions històriques, música i dansa, parades d’artesania i gastronomia, demostracions d’oficis i jocs. Consulteu el programa d’activitats.

URI:https://www.dosrius.cat/actualitat/noticies/torna-la-fira-del-bosc-canyamars-medieval.html
CLASS:PUBLIC
END:VEVENT
END:VCALENDAR
