BEGIN:VCALENDAR
VERSION:2.0
CALSCALE:GREGORIAN
PRODID:-//Diputació de Barcelona//DibaCMS//EN
BEGIN:VEVENT
UID:4362
DTSTAMP:20260421T191237
DTSTART:20241008T000000
DTEND:20251008T000000
SUMMARY:Impuls del Pla de Verificació d&#39;Activitats 2024-2028 per controlar les activitats econòmiques a Dosrius
LOCATION:
METHOD:PUBLISH
X-WR-CALNAME:dosrius@dosrius.cat
X-WR-TIMEZONE:Europe/Madrid
DESCRIPTION:
L'objectiu del pla és garantir el compliment de la normativa en les activitats del municipi.

URI:https://www.dosrius.cat/actualitat/noticies/impuls-del-pla-de-verificacio-dand39activitats-2024-2028-per-controlar-les-activitats-economiques-a-dosrius.html
CLASS:PUBLIC
END:VEVENT
END:VCALENDAR
