BEGIN:VCALENDAR
VERSION:2.0
CALSCALE:GREGORIAN
PRODID:-//Diputació de Barcelona//DibaCMS//EN
BEGIN:VEVENT
UID:4357
DTSTAMP:20260421T191808
DTSTART:20241003T000000
DTEND:20291005T000000
SUMMARY:Dosrius celebra les Jornades Europees de Patrimoni amb activitats centrades en l’aigua
LOCATION:
METHOD:PUBLISH
X-WR-CALNAME:dosrius@dosrius.cat
X-WR-TIMEZONE:Europe/Madrid
DESCRIPTION:
De l’11 al 13 d’octubre, l’Ajuntament de Dosrius i el Centre d’Estudis Esteve Albert i Corp organitzen una sèrie d’activitats dedicades a l’aigua com a patrimoni, amb exposicions, taules rodones, excursions i visites guiades.

URI:https://www.dosrius.cat/actualitat/noticies/dosrius-celebra-les-jornades-europees-de-patrimoni-amb-activitats-centrades-en-laigua.html
CLASS:PUBLIC
END:VEVENT
END:VCALENDAR
