BEGIN:VCALENDAR
VERSION:2.0
CALSCALE:GREGORIAN
PRODID:-//Diputació de Barcelona//DibaCMS//EN
BEGIN:VEVENT
UID:4345
DTSTAMP:20260421T191656
DTSTART:20240926T000000
DTEND:20290901T000000
SUMMARY:ARXIVA’D, la publicació trimestral de l’Arxiu Municipal de Dosrius, fa públic el seu segon número
LOCATION:
METHOD:PUBLISH
X-WR-CALNAME:dosrius@dosrius.cat
X-WR-TIMEZONE:Europe/Madrid
DESCRIPTION:
El document és un certificat notarial expedit l’any 1816 i dona fe d’uns acords de l’any 1739.

URI:https://www.dosrius.cat/actualitat/noticies/arxivad-la-publicacio-trimestral-de-larxiu-municipal-de-dosrius-fa-public-el-seu-segon-numero.html
CLASS:PUBLIC
END:VEVENT
END:VCALENDAR
