BEGIN:VCALENDAR
VERSION:2.0
CALSCALE:GREGORIAN
PRODID:-//Diputació de Barcelona//DibaCMS//EN
BEGIN:VEVENT
UID:4344
DTSTAMP:20260421T190840
DTSTART:20240925T000000
DTEND:20300908T000000
SUMMARY:Dosrius inicia el Procés Participatiu per definir els nous usos de La Tortuga
LOCATION:
METHOD:PUBLISH
X-WR-CALNAME:dosrius@dosrius.cat
X-WR-TIMEZONE:Europe/Madrid
DESCRIPTION:
La ciutadania està convidada a participar en diverses activitats per dissenyar els futurs usos i la gestió de l’espai clau de La Tortuga.

URI:https://www.dosrius.cat/actualitat/noticies/dosrius-inicia-el-proces-participatiu-per-definir-els-nous-usos-de-la-tortuga.html
CLASS:PUBLIC
END:VEVENT
END:VCALENDAR
