BEGIN:VCALENDAR
VERSION:2.0
CALSCALE:GREGORIAN
PRODID:-//Diputació de Barcelona//DibaCMS//EN
BEGIN:VEVENT
UID:4330
DTSTAMP:20260421T190453
DTSTART:20240906T000000
DTEND:20250906T000000
SUMMARY:L’Ajuntament impulsa el primer concurs ‘Dosrius terrorífic’ de decoració de cases per Halloween
LOCATION:
METHOD:PUBLISH
X-WR-CALNAME:dosrius@dosrius.cat
X-WR-TIMEZONE:Europe/Madrid
DESCRIPTION:També es tornarà a celebrar el ‘Truc o tracte’. Totes les botigues, establiments o cases particulars que vulguin participar en l’activitat com a punt de repartiment de llaminadures cal que enviïn un correu a joves@dosrius.cat. Inscripcions obertes fins al 20 d’octubre. 

URI:https://www.dosrius.cat/actualitat/noticies/lajuntament-impulsa-el-primer-concurs-dosrius-terrorific-de-decoracio-de-cases-per-halloween.html
CLASS:PUBLIC
END:VEVENT
END:VCALENDAR
