BEGIN:VCALENDAR
VERSION:2.0
CALSCALE:GREGORIAN
PRODID:-//Diputació de Barcelona//DibaCMS//EN
BEGIN:VEVENT
UID:4329
DTSTAMP:20260422T121939
DTSTART:20240906T000000
DTEND:20300901T000000
SUMMARY:L’incivisme surt car: el sobrecost de la mala gestió de residus
LOCATION:
METHOD:PUBLISH
X-WR-CALNAME:dosrius@dosrius.cat
X-WR-TIMEZONE:Europe/Madrid
DESCRIPTION:
L’Ajuntament de Dosrius alerta que els abocaments incontrolats als contenidors generen una despesa anual que tots els ciutadans han d’assumir, malgrat disposar de serveis  -sense cost afegit- com la recollida domiciliaria de voluminosos, la brossa verda de jardí i la deixalleria fixe i mòbil.

URI:https://www.dosrius.cat/actualitat/noticies/lincivisme-surt-car-el-sobrecost-de-la-mala-gestio-de-residus.html
CLASS:PUBLIC
END:VEVENT
END:VCALENDAR
