BEGIN:VCALENDAR
VERSION:2.0
CALSCALE:GREGORIAN
PRODID:-//Diputació de Barcelona//DibaCMS//EN
BEGIN:VEVENT
UID:4328
DTSTAMP:20260421T185434
DTSTART:20240904T000000
DTEND:20250904T000000
SUMMARY:Dosrius commemora la Diada Nacional de Catalunya
LOCATION:
METHOD:PUBLISH
X-WR-CALNAME:dosrius@dosrius.cat
X-WR-TIMEZONE:Europe/Madrid
DESCRIPTION:
El dimecres 11 de setembre se celebrarà la tradicional ofrena floral i els parlaments públics.
 

URI:https://www.dosrius.cat/actualitat/noticies/4328-dosrius-commemora-la-diada-nacional-de-catalunya.html
CLASS:PUBLIC
END:VEVENT
END:VCALENDAR
