BEGIN:VCALENDAR
VERSION:2.0
CALSCALE:GREGORIAN
PRODID:-//Diputació de Barcelona//DibaCMS//EN
BEGIN:VEVENT
UID:4321
DTSTAMP:20260420T155131
DTSTART:20240819T000000
DTEND:20300801T000000
SUMMARY:Convocatòria de beques escolars per al curs 2024-2025
LOCATION:
METHOD:PUBLISH
X-WR-CALNAME:dosrius@dosrius.cat
X-WR-TIMEZONE:Europe/Madrid
DESCRIPTION:
Els ajuts es podràn sol·licitar a les oficines municipals a partir de l'endemà de la publicació de la convocatòria al BOPB.

URI:https://www.dosrius.cat/actualitat/noticies/convocatoria-de-beques-escolars-per-al-curs-2024-2025.html
CLASS:PUBLIC
END:VEVENT
END:VCALENDAR
