BEGIN:VCALENDAR
VERSION:2.0
CALSCALE:GREGORIAN
PRODID:-//Diputació de Barcelona//DibaCMS//EN
BEGIN:VEVENT
UID:4316
DTSTAMP:20260422T172846
DTSTART:20240814T000000
DTEND:20300802T000000
SUMMARY:L’Arxiu Municipal de Dosrius rep 3 donacions clau pel patrimoni documental del poble
LOCATION:
METHOD:PUBLISH
X-WR-CALNAME:dosrius@dosrius.cat
X-WR-TIMEZONE:Europe/Madrid
DESCRIPTION:
L’equipament continua animant la població a contribuir a preservar la història local amb documents i records familiars.

URI:https://www.dosrius.cat/actualitat/noticies/larxiu-municipal-de-dosrius-rep-3-donacions-clau-pel-patrimoni-documental-del-poble.html
CLASS:PUBLIC
END:VEVENT
END:VCALENDAR
