BEGIN:VCALENDAR
VERSION:2.0
CALSCALE:GREGORIAN
PRODID:-//Diputació de Barcelona//DibaCMS//EN
BEGIN:VEVENT
UID:4315
DTSTAMP:20260422T133833
DTSTART:20240812T120000
DTEND:20290802T000000
SUMMARY:Canyamars s’omple de vida per celebrar la Festa Major!
LOCATION:
METHOD:PUBLISH
X-WR-CALNAME:dosrius@dosrius.cat
X-WR-TIMEZONE:Europe/Madrid
DESCRIPTION:
L’Ajuntament felicita a la Comissió de Festes de Canyamars per l’èxit en l’organització de les diverses activitats.  

URI:https://www.dosrius.cat/actualitat/noticies/canyamars-somple-de-vida-per-celebrar-la-festa-major.html
CLASS:PUBLIC
END:VEVENT
END:VCALENDAR
