BEGIN:VCALENDAR
VERSION:2.0
CALSCALE:GREGORIAN
PRODID:-//Diputació de Barcelona//DibaCMS//EN
BEGIN:VEVENT
UID:4312
DTSTAMP:20260421T202932
DTSTART:20240802T125500
DTEND:20250802T000000
SUMMARY:ATENCIÓ! Festa Major de Canyamars: canvi en les ubicacions dels actes de la tarda del 2 d'agost 
LOCATION:
METHOD:PUBLISH
X-WR-CALNAME:dosrius@dosrius.cat
X-WR-TIMEZONE:Europe/Madrid
DESCRIPTION:
URI:https://www.dosrius.cat/actualitat/noticies/atencio-festa-major-de-canyamars-canvi-en-les-ubicacions-dels-actes-de-la-tarda-del-2-dagost-.html
CLASS:PUBLIC
END:VEVENT
END:VCALENDAR
