BEGIN:VCALENDAR
VERSION:2.0
CALSCALE:GREGORIAN
PRODID:-//Diputació de Barcelona//DibaCMS//EN
BEGIN:VEVENT
UID:4309
DTSTAMP:20260421T190601
DTSTART:20240801T100000
DTEND:20250801T000000
SUMMARY:L'Ajuntament de Dosrius adquireix una nova furgoneta per a la Brigada Municipal
LOCATION:
METHOD:PUBLISH
X-WR-CALNAME:dosrius@dosrius.cat
X-WR-TIMEZONE:Europe/Madrid
DESCRIPTION:El consistori ha adquirit, a través d’una compra un vehicle de segona mà per 22.143,00 €

URI:https://www.dosrius.cat/actualitat/noticies/lajuntament-de-dosrius-adquireix-una-nova-furgoneta-per-a-la-brigada-municipal.html
CLASS:PUBLIC
END:VEVENT
END:VCALENDAR
