BEGIN:VCALENDAR
VERSION:2.0
CALSCALE:GREGORIAN
PRODID:-//Diputació de Barcelona//DibaCMS//EN
BEGIN:VEVENT
UID:4303
DTSTAMP:20260422T153838
DTSTART:20240726T100000
DTEND:20310404T000000
SUMMARY:Interrupcions de subministrament pel manteniment de les instal·lacions elèctriques 
LOCATION:
METHOD:PUBLISH
X-WR-CALNAME:dosrius@dosrius.cat
X-WR-TIMEZONE:Europe/Madrid
DESCRIPTION:
Endesa informa l’Ajuntament de Dosrius que dilluns, 29 de juliol, es faran talls en el subministrament elèctric que afectaran Can Boba i els carrers Joan Miró i Pablo Picasso.

URI:https://www.dosrius.cat/actualitat/noticies/interrupcions-de-subministrament-pel-manteniment-de-les-installacions-electriques-.html
CLASS:PUBLIC
END:VEVENT
END:VCALENDAR
