BEGIN:VCALENDAR
VERSION:2.0
CALSCALE:GREGORIAN
PRODID:-//Diputació de Barcelona//DibaCMS//EN
BEGIN:VEVENT
UID:4299
DTSTAMP:20260421T190824
DTSTART:20240724T000000
DTEND:20250724T000000
SUMMARY:Nova alerta de Salut per la retirada del mercat de diversos productes cosmètics
LOCATION:
METHOD:PUBLISH
X-WR-CALNAME:dosrius@dosrius.cat
X-WR-TIMEZONE:Europe/Madrid
DESCRIPTION:
L’informe afecta a Mediderma Melaspeel J2, Nuxe -Very Rose – Agua Micelar Calmante i diversos productes cosmètics de MEDIDERMA. 

URI:https://www.dosrius.cat/actualitat/noticies/nova-alerta-de-salut-per-la-retirada-del-mercat-de-diversos-productes-cosmetics.html
CLASS:PUBLIC
END:VEVENT
END:VCALENDAR
