BEGIN:VCALENDAR
VERSION:2.0
CALSCALE:GREGORIAN
PRODID:-//Diputació de Barcelona//DibaCMS//EN
BEGIN:VEVENT
UID:4298
DTSTAMP:20260421T190426
DTSTART:20240913T000000
DTEND:20250724T000000
SUMMARY:Festa Major de Can Massuet del Far: del 20 al 22 de setembre
LOCATION:
METHOD:PUBLISH
X-WR-CALNAME:dosrius@dosrius.cat
X-WR-TIMEZONE:Europe/Madrid
DESCRIPTION:
El nucli acollirà més d'una vintena de propostes lúdiques i culturals per a tots els públics.

URI:https://www.dosrius.cat/actualitat/noticies/festa-major-de-can-massuet-del-far-del-20-al-22-de-setembre.html
CLASS:PUBLIC
END:VEVENT
END:VCALENDAR
