BEGIN:VCALENDAR
VERSION:2.0
CALSCALE:GREGORIAN
PRODID:-//Diputació de Barcelona//DibaCMS//EN
BEGIN:VEVENT
UID:4297
DTSTAMP:20260421T203307
DTSTART:20240812T000000
DTEND:20250724T000000
SUMMARY:Festa Major de Dosrius: del 29 d’agost a l’1 de setembre
LOCATION:
METHOD:PUBLISH
X-WR-CALNAME:dosrius@dosrius.cat
X-WR-TIMEZONE:Europe/Madrid
DESCRIPTION:
El nucli acollirà una vintena de propostes lúdiques i culturals per a tots els públics.

URI:https://www.dosrius.cat/actualitat/noticies/festa-major-de-dosrius-del-29-dagost-a-l1-de-setembre.html
CLASS:PUBLIC
END:VEVENT
END:VCALENDAR
