BEGIN:VCALENDAR
VERSION:2.0
CALSCALE:GREGORIAN
PRODID:-//Diputació de Barcelona//DibaCMS//EN
BEGIN:VEVENT
UID:4290
DTSTAMP:20260422T193620
DTSTART:20240718T000000
DTEND:20290701T000000
SUMMARY:Finalitzen les obres d’arranjament del carrer Lluís Moret
LOCATION:
METHOD:PUBLISH
X-WR-CALNAME:dosrius@dosrius.cat
X-WR-TIMEZONE:Europe/Madrid
DESCRIPTION:
L’actuació ha permès donar continuïtat a la trama urbana connectant el casc antic de Dosrius amb la zona d’equipaments municipals de Can Batlle i el nou Institut.

URI:https://www.dosrius.cat/actualitat/noticies/finalitzen-les-obres-darranjament-del-carrer-lluis-moret.html
CLASS:PUBLIC
END:VEVENT
END:VCALENDAR
