BEGIN:VCALENDAR
VERSION:2.0
CALSCALE:GREGORIAN
PRODID:-//Diputació de Barcelona//DibaCMS//EN
BEGIN:VEVENT
UID:4289
DTSTAMP:20260421T202748
DTSTART:20240716T000000
DTEND:20310704T000000
SUMMARY:Humana recupera 7 tones de roba a Dosrius al primer semestre de l’any amb un benefici ambiental i social
LOCATION:
METHOD:PUBLISH
X-WR-CALNAME:dosrius@dosrius.cat
X-WR-TIMEZONE:Europe/Madrid
DESCRIPTION:
El 90% dels articles recuperats tindran una segona vida gràcies a la reutilització i el reciclatge.

URI:https://www.dosrius.cat/actualitat/noticies/humana-recupera-7-tones-de-roba-a-dosrius-al-primer-semestre-de-lany-amb-un-benefici-ambiental-i-social.html
CLASS:PUBLIC
END:VEVENT
END:VCALENDAR
