BEGIN:VCALENDAR
VERSION:2.0
CALSCALE:GREGORIAN
PRODID:-//Diputació de Barcelona//DibaCMS//EN
BEGIN:VEVENT
UID:4285
DTSTAMP:20260421T200642
DTSTART:20240709T120000
DTEND:20340714T140000
SUMMARY:El Concurs Literari Esteve Albert proclama els guanyadors i guanyadores de la quinzena edició
LOCATION:
METHOD:PUBLISH
X-WR-CALNAME:dosrius@dosrius.cat
X-WR-TIMEZONE:Europe/Madrid
DESCRIPTION:L’Ajuntament felicita a tots els premiats per aquest guardó i agraeix a tots els participants la seva implicació en el certamen. Els treballs guanyadors participaran en la XLI edició de la fase comarcal de la Mostra Literària del Maresme. Esperem, doncs, que hi hagi sort i obtinguin algun dels premis comarcals.

URI:https://www.dosrius.cat/actualitat/noticies/el-concurs-literari-esteve-albert-proclama-els-guanyadors-i-guanyadores-de-la-quinzena-edicio.html
CLASS:PUBLIC
END:VEVENT
END:VCALENDAR
