BEGIN:VCALENDAR
VERSION:2.0
CALSCALE:GREGORIAN
PRODID:-//Diputació de Barcelona//DibaCMS//EN
BEGIN:VEVENT
UID:4284
DTSTAMP:20260421T200448
DTSTART:20240709T000000
DTEND:20290709T000000
SUMMARY:Ajornada la 38a Cantada d’Havaneres a Can Massuet a causa de la pluja
LOCATION:
METHOD:PUBLISH
X-WR-CALNAME:dosrius@dosrius.cat
X-WR-TIMEZONE:Europe/Madrid
DESCRIPTION:
Pròximament es comunicarà la nova data.

URI:https://www.dosrius.cat/actualitat/noticies/ajornada-la-38a-cantada-dhavaneres-a-can-massuet-a-causa-de-la-pluja.html
CLASS:PUBLIC
END:VEVENT
END:VCALENDAR
