BEGIN:VCALENDAR
VERSION:2.0
CALSCALE:GREGORIAN
PRODID:-//Diputació de Barcelona//DibaCMS//EN
BEGIN:VEVENT
UID:4283
DTSTAMP:20260421T213049
DTSTART:20240705T000000
DTEND:20300706T000000
SUMMARY:El veí de Canyamars Albert Pujol, campió en el campionat WORLD CUP BJJ de JiuJitsu
LOCATION:
METHOD:PUBLISH
X-WR-CALNAME:dosrius@dosrius.cat
X-WR-TIMEZONE:Europe/Madrid
DESCRIPTION:
L'Ajuntament de Dosrius felicita l'esportista i desitja que segueixi sumant èxits esportius.

URI:https://www.dosrius.cat/actualitat/noticies/el-vei-de-canyamars-albert-pujol-campio-en-el-campionat-world-cup-bjj-de-jiujitsu.html
CLASS:PUBLIC
END:VEVENT
END:VCALENDAR
