BEGIN:VCALENDAR
VERSION:2.0
CALSCALE:GREGORIAN
PRODID:-//Diputació de Barcelona//DibaCMS//EN
BEGIN:VEVENT
UID:4279
DTSTAMP:20260422T024840
DTSTART:20240702T000000
DTEND:20300705T000000
SUMMARY:Alerta de Salut per la retirada del mercat de diversos productes cosmètics
LOCATION:
METHOD:PUBLISH
X-WR-CALNAME:dosrius@dosrius.cat
X-WR-TIMEZONE:Europe/Madrid
DESCRIPTION:
L’informe afecta els següents productes: MCCM Purple Peel 1; MCCM Purple peel 2; MCCM Purple Peel 4; MCCM Red Peel 1; MCCM Red Peel 3; MCCM Red Peel 5; MCCM T50T35; MCCM T35P; MCCM Jessner Peel 

URI:https://www.dosrius.cat/actualitat/noticies/alerta-de-salut-per-la-retirada-del-mercat-de-diversos-productes-cosmetics.html
CLASS:PUBLIC
END:VEVENT
END:VCALENDAR
